Workbook

Sheet はじめに
B2: 必ずお読みください。
B4: お願い
B6: ・ | C6: 「参加申込書」は、こちらに入力して作成してください。
B7: ・ | C7: 郵送とともに、電子メールにて送信してください。
B8: ・ | C8: 外字の生徒は、分かるよう印をつけるなどしてください。
B9: ・ | C9: 学校対抗の出場の有無にかかわらず、登録選手は必ず記入してください。

Sheet 男子
A1: 令和8年度高体連オホーツク支部新人卓球選手権大会
A2: 兼 北海道高等学校選抜卓球大会オホーツク支部予選会
A3: 参 加 申 込 書
A5: 学校名 | L5: 学校 | O5: 男子 | Q5: ・ | R5: 女子 | T5: （いずれかに○）
A6: 監督名 | D6: 1 | I6: 2 | O6: 外部指導者
O7: ※別紙（外部指導者届出様式） 提出必要
A8: １ 登録選手一覧 | G8: ※選手氏名、ふりがな、健康状態は全角 / 学年、年齢、生年月日は半角
C9: 選手氏名 | G9: ふりがな | L9: 学年 | N9: 年齢 | P9: 生年月日 | T9: 健康状態 | W9: 備考
A10: 記入例 | C10: 卓球 太郎 | G10: たっきゅう たろう | L10: 2 | N10: 17 | P10: 40109 | T10: 良好
A11: 主 将
A12: 選 手
A13: 〃
A14: 〃
A15: 〃
A16: 〃
A17: 〃
A18: 〃
A19: 補 欠
A20: 〃
A22: ２ 学校対抗 （いずれかに○） | J22: 出場する | O22: ・ | P22: 出場しない
D23: シード以外の選手について、校内ランキングに従って入力。シード選手は下段に入力。
A24: ３ 個人戦
A25: ダブルス | N25: シングルス
A26: 校内ランキング | E26: 氏名 | K26: 学年 | N26: 校内ランキング | R26: 氏名 | X26: 学年
A27: 1 | N27: 1
N28: 2
A29: 2 | N29: 3
N30: 4
A31: 3 | N31: 5
N32: 6
A33: 4 | N33: 7
N34: 8
A35: 5 | N35: 9
N36: 10
A37: シード | N37: シード
N38: シード
A39: シード | N39: シード
N40: シード
A41: ※大会参加申込書は、必ず男女別に提出して下さい。
A43: 上記の生徒は、本校の生徒であり、本大会に出場することを認めます。 | S43: 令和 8年 | W43: 月 | Y43: 日
S45: 学校長 | Z45: 印
D47: いずれかに○
A48: 宿泊先 連絡先 | D48: 宿泊する | H48: 連絡先 | Q48: 宿泊先
H49: TEL | Q49: TEL
D50: 宿泊しない | H50: （備考）

Sheet 女子
A1: 令和8年度高体連オホーツク支部新人卓球選手権大会
A2: 兼 北海道高等学校選抜卓球大会オホーツク支部予選会
A3: 参 加 申 込 書
A5: 学校名 | L5: 学校 | O5: 男子 | Q5: ・ | R5: 女子 | T5: （いずれかに○）
A6: 監督名 | D6: 1 | I6: 2 | O6: 外部指導者
O7: ※別紙（外部指導者届出様式） 提出必要
A8: １ 登録選手一覧 | G8: ※選手氏名、ふりがな、健康状態は全角 / 学年、年齢、生年月日は半角
C9: 選手氏名 | G9: ふりがな | L9: 学年 | N9: 年齢 | P9: 生年月日 | T9: 健康状態 | W9: 備考
A10: 記入例 | C10: 卓球 太郎 | G10: たっきゅう たろう | L10: 2 | N10: 17 | P10: 40109 | T10: 良好
A11: 主 将
A12: 選 手
A13: 〃
A14: 〃
A15: 〃
A16: 〃
A17: 〃
A18: 〃
A19: 補 欠
A20: 〃
A22: ２ 学校対抗 （いずれかに○） | J22: 出場する | O22: ・ | P22: 出場しない
D23: シード以外の選手について、校内ランキングに従って入力。シード選手は下段に入力。
A24: ３ 個人戦
A25: ダブルス | N25: シングルス
A26: 校内ランキング | E26: 氏名 | K26: 学年 | N26: 校内ランキング | R26: 氏名 | X26: 学年 | AX26: 3
A27: 1 | N27: 1 | AX27: 3
N28: 2 | AX28: 3
A29: 2 | N29: 3 | AX29: 3
N30: 4 | AX30: 3
A31: 3 | N31: 5 | AX31: 2
N32: 6
A33: 4 | N33: 7
N34: 8
A35: 5 | N35: 9
N36: 10
A37: シード | N37: シード
N38: シード
A39: シード | N39: シード
N40: シード
A41: ※大会参加申込書は、必ず男女別に提出して下さい。
A43: 上記の生徒は、本校の生徒であり、本大会に出場することを認めます。 | S43: 令和 8年 | W43: 月 | Y43: 日
S45: 学校長 | Z45: 印
D47: いずれかに○
A48: 宿泊先 連絡先 | D48: 宿泊する | H48: 連絡先 | Q48: 宿泊先
H49: TEL | Q49: TEL
D50: 宿泊しない | H50: （備考）

Sheet プログラム用一覧
B3: 男子プログラム用 | H3: 女子プログラム用
C5: =IF(男子!$E$5="","",男子!$E$5) | E5: 学校 | I5: =IF(女子!$E$5="","",女子!$E$5) | K5: 学校
B6: 監督 | C6: =IF(男子!$E$6="","",男子!$E$6) | D6: =IF(男子!J6="","",男子!$J$6) | H6: 監督 | I6: =IF(女子!$E$6="","",女子!$E$6) | J6: =IF(女子!$J$6="","",女子!$J$6)
B7: 外部指導者 | C7: =IF(男子!$R$6="","",男子!$R$6) | D7: 学年 | E7: ダブルス | F7: シングルス | H7: 外部指導者 | I7: =IF(女子!$R$6="","",女子!$R$6) | J7: 学年 | K7: ダブルス | L7: シングルス
B8: 主将 | C8: =IF(男子!$G$11="","",男子!$G$11) | D8: =IF(男子!$L$11="","",男子!$L$11) | H8: 主将 | I8: =IF(女子!$G$11="","",女子!$G$11) | J8: =IF(女子!$L$11="","",女子!$L$11)
C9: =IF(男子!$C$11="","",男子!$C$11) | I9: =IF(女子!$C$11="","",女子!$C$11)
B10: 選手 | C10: =IF(男子!$G$12="","",男子!$G$12) | D10: =IF(男子!$L$12="","",男子!$L$12) | H10: 選手 | I10: =IF(女子!$G$12="","",女子!$G$12) | J10: =IF(女子!$L$12="","",女子!$L$12)
C11: =IF(男子!$C$12="","",男子!$C$12) | I11: =IF(女子!$C$12="","",女子!$C$12)
C12: =IF(男子!$G$13="","",男子!$G$13) | D12: =IF(男子!$L$13="","",男子!$L$13) | I12: =IF(女子!$G$13="","",女子!$G$13) | J12: =IF(女子!$L$13="","",女子!$L$13)
C13: =IF(男子!$C$13="","",男子!$C$13) | I13: =IF(女子!$C$13="","",女子!$C$13)
C14: =IF(男子!$G$14="","",男子!$G$14) | D14: =IF(男子!$L$14="","",男子!$L$14) | I14: =IF(女子!$G$14="","",女子!$G$14) | J14: =IF(女子!$L$14="","",女子!$L$14)
C15: =IF(男子!$C$14="","",男子!$C$14) | I15: =IF(女子!$C$14="","",女子!$C$14)
C16: =IF(男子!$G$15="","",男子!$G$15) | D16: =IF(男子!$L$15="","",男子!$L$15) | I16: =IF(女子!$G$15="","",女子!$G$15) | J16: =IF(女子!$L$15="","",女子!$L$15)
C17: =IF(男子!$C$15="","",男子!$C$15) | I17: =IF(女子!$C$15="","",女子!$C$15)
C18: =IF(男子!$G$16="","",男子!$G$16) | D18: =IF(男子!$L$16="","",男子!$L$16) | I18: =IF(女子!$G$16="","",女子!$G$16) | J18: =IF(女子!$L$16="","",女子!$L$16)
C19: =IF(男子!$C$16="","",男子!$C$16) | I19: =IF(女子!$C$16="","",女子!$C$16)
C20: =IF(男子!$G$17="","",男子!$G$17) | D20: =IF(男子!$L$17="","",男子!$L$17) | I20: =IF(女子!$G$17="","",女子!$G$17) | J20: =IF(女子!$L$17="","",女子!$L$17)
C21: =IF(男子!$C$17="","",男子!$C$17) | I21: =IF(女子!$C$17="","",女子!$C$17)
C22: =IF(男子!$G$18="","",男子!$G$18) | D22: =IF(男子!$L$18="","",男子!$L$18) | I22: =IF(女子!$G$18="","",女子!$G$18) | J22: =IF(女子!$L$18="","",女子!$L$18)
C23: =IF(男子!$C$18="","",男子!$C$18) | I23: =IF(女子!$C$18="","",女子!$C$18)
B24: 補欠 | C24: =IF(男子!$G$19="","",男子!$G$19) | D24: =IF(男子!$L$19="","",男子!$L$19) | H24: 補欠 | I24: =IF(女子!$G$19="","",女子!$G$19) | J24: =IF(女子!$L$19="","",女子!$L$19)
C25: =IF(男子!$C$19="","",男子!$C$19) | I25: =IF(女子!$C$19="","",女子!$C$19)
C26: =IF(男子!$G$20="","",男子!$G$20) | D26: =IF(男子!$L$20="","",男子!$L$20) | I26: =IF(女子!$G$20="","",女子!$G$20) | J26: =IF(女子!$L$20="","",女子!$L$20)
C27: =IF(男子!$C$20="","",男子!$C$20) | I27: =IF(女子!$C$20="","",女子!$C$20)

Sheet Sheet1
B2: 学 校 名 | C2: 学 校 名
B3: 北海道北見北斗高等 | C3: 北海道北見北斗高等学校
B4: 北海道北見柏陽高等 | C4: 北海道北見柏陽高等学校
B5: 北海道北見緑陵高等 | C5: 北海道北見緑陵高等学校
B6: 北海道北見工業高等 | C6: 北海道北見工業高等学校
B7: 北海道網走南ヶ丘高等 | C7: 北海道網走南ヶ丘高等学校
B8: 北海道紋別高等 | C8: 北海道紋別高等学校
B9: 北海道遠軽高等 | C9: 北海道遠軽高等学校
B10: 北海道興部高等 | C10: 北海道興部高等学校
B11: 北海道雄武高等 | C11: 北海道雄武高等学校
B12: 北見藤女子高等 | C12: 北見藤女子高等学校
B13: 日体体育大学大附属高等支援 | C13: 日体体育大学大附属高等支援学校
... B33: 北海道有朋高等 | C33: 北海道有朋高等学校北見校
